BEGIN:VCALENDAR
VERSION:2.0
PRODID:-//AVANT Project - ECPv6.6.2//NONSGML v1.0//EN
CALSCALE:GREGORIAN
METHOD:PUBLISH
X-WR-CALNAME:AVANT Project
X-ORIGINAL-URL:https://avant-project.eu
X-WR-CALDESC:Events for AVANT Project
REFRESH-INTERVAL;VALUE=DURATION:PT1H
X-Robots-Tag:noindex
X-PUBLISHED-TTL:PT1H
BEGIN:VTIMEZONE
TZID:Africa/Abidjan
BEGIN:STANDARD
TZOFFSETFROM:+0000
TZOFFSETTO:+0000
TZNAME:GMT
DTSTART:20250101T000000
END:STANDARD
END:VTIMEZONE
BEGIN:VEVENT
DTSTART;VALUE=DATE:20250210
DTEND;VALUE=DATE:20250213
DTSTAMP:20260424T203827
CREATED:20241206T125202Z
LAST-MODIFIED:20241206T125202Z
UID:5199-1739145600-1739404799@avant-project.eu
SUMMARY:Shaping the Future of Animal Health - An Animal Health Networking Event
DESCRIPTION:Driving forward partnerships and investments that better serve animals\, people and the planet. Providing the animal health industry with invaluable networking and knowledge sharing opportunities by facilitating connections between the most exciting startups\, active financial investors and strategic corporate partners within animal health.
URL:https://avant-project.eu/event/shaping-the-future-of-animal-health-an-animal-health-networking-event/
LOCATION:InterContinental London – The O2\, 1 Waterview Dr\, London SE10 0TW\, United Kingdom
ATTACH;FMTTYPE=image/webp:https://avant-project.eu/wp-content/uploads/2024/12/Shaping-the-Future-of-Animal-Health.webp
ORGANIZER;CN="Kisaco Research":MAILTO:events@kisacoresearch.com
END:VEVENT
END:VCALENDAR