BEGIN:VCALENDAR
VERSION:2.0
PRODID:-//AVANT Project - ECPv6.6.2//NONSGML v1.0//EN
CALSCALE:GREGORIAN
METHOD:PUBLISH
X-ORIGINAL-URL:https://avant-project.eu
X-WR-CALDESC:Events for AVANT Project
REFRESH-INTERVAL;VALUE=DURATION:PT1H
X-Robots-Tag:noindex
X-PUBLISHED-TTL:PT1H
BEGIN:VTIMEZONE
TZID:Africa/Abidjan
BEGIN:STANDARD
TZOFFSETFROM:+0000
TZOFFSETTO:+0000
TZNAME:GMT
DTSTART:20250101T000000
END:STANDARD
END:VTIMEZONE
BEGIN:VEVENT
DTSTART;VALUE=DATE:20250616
DTEND;VALUE=DATE:20250618
DTSTAMP:20260424T034439
CREATED:20241209T094804Z
LAST-MODIFIED:20241209T094804Z
UID:5239-1750032000-1750204799@avant-project.eu
SUMMARY:Infectious Diseases 2025\, International Conference
DESCRIPTION:Theme: The Role of Innovative Diagnostics and Treatment in the Management of Infectious Diseases \nEngage on a metamorphic journey at the “International conference on infectious diseases” blow up to take place in Brussels\, which is an alpha global city of  Belgium on June 16-17\, 2025 with the theme “The Role of Innovative Diagnostics and Treatment in the Management of Infectious Diseases”.We extend our warm welcome to distinguished guests\, esteemed speakers\, and all participants who contribute the richness of this intellectual form.
URL:https://avant-project.eu/event/infectious-diseases-2025-international-conference/
LOCATION:Brussels\, -\, Brussels\, Belgium
ATTACH;FMTTYPE=image/webp:https://avant-project.eu/wp-content/uploads/2024/12/Infectious-Diseases-2025-International-Conference.webp
END:VEVENT
BEGIN:VEVENT
DTSTART;VALUE=DATE:20250630
DTEND;VALUE=DATE:20250703
DTSTAMP:20260424T034439
CREATED:20241209T101345Z
LAST-MODIFIED:20241209T101345Z
UID:5248-1751241600-1751500799@avant-project.eu
SUMMARY:10th Symposium on Antimicrobial Resistance in Animals and the Environment (AREA)
DESCRIPTION:The ARAE conference will present a global vision of the impact of antimicrobial use and resistance in animal\, the environment\, and the consequent repercussions on human health. \nMain topics will include: \n\nMonitoring and molecular epidemiology of antimicrobial resistance\nMechanisms and dissemination of antimicrobial resistance in animal and zoonotic pathogens\nUnderstanding the connection of antimicrobial resistance between animals\, humans and/or the environment\nRoles of the environment in resistance evolution and transmission\nNovel approaches to combat antimicrobial resistance\nNovel methods and tools dedicated to antimicrobial resistance (detection\, diagnostics\, surveillance)
URL:https://avant-project.eu/event/10th-symposium-on-antimicrobial-resistance-in-animals-and-the-environment-area/
LOCATION:Berlin-Brandenburg Academy of Sciences and Humanities\, Jägerstrasse 22/23\, Berlin\, D-10117\, Germany
ATTACH;FMTTYPE=image/webp:https://avant-project.eu/wp-content/uploads/2024/12/10th-Symposium-on-Antimicrobial-Resistance-in-Animals-and-the-Environment.webp
ORGANIZER;CN="Conventus Congressmanagement & Marketing GmbH":MAILTO:post@conventus.de
END:VEVENT
BEGIN:VEVENT
DTSTART;VALUE=DATE:20250718
DTEND;VALUE=DATE:20250723
DTSTAMP:20260424T034439
CREATED:20241209T102622Z
LAST-MODIFIED:20241209T102622Z
UID:5257-1752796800-1753228799@avant-project.eu
SUMMARY:Annual World Veterinary Association Congress 2025
DESCRIPTION:The WVA is the voice and unity of the global veterinary profession with 80+ members all over the world. \nOur key priority areas are Animal Welfare\, Pharmaceutical Stewardship\, Veterinary Education and One Health. We promote them through advocacy\, education\, and partnership.
URL:https://avant-project.eu/event/annual-world-veterinary-association-congress-2025/
LOCATION:Washington DC\, Washington DC\, United States
ATTACH;FMTTYPE=image/webp:https://avant-project.eu/wp-content/uploads/2024/12/Annual-World-Veterinary-Association-Congress-2025.webp
END:VEVENT
END:VCALENDAR