BEGIN:VCALENDAR
VERSION:2.0
PRODID:-//AVANT Project - ECPv6.6.2//NONSGML v1.0//EN
CALSCALE:GREGORIAN
METHOD:PUBLISH
X-ORIGINAL-URL:https://avant-project.eu
X-WR-CALDESC:Events for AVANT Project
REFRESH-INTERVAL;VALUE=DURATION:PT1H
X-Robots-Tag:noindex
X-PUBLISHED-TTL:PT1H
BEGIN:VTIMEZONE
TZID:Africa/Abidjan
BEGIN:STANDARD
TZOFFSETFROM:+0000
TZOFFSETTO:+0000
TZNAME:GMT
DTSTART:20250101T000000
END:STANDARD
END:VTIMEZONE
BEGIN:VEVENT
DTSTART;VALUE=DATE:20250506
DTEND;VALUE=DATE:20250507
DTSTAMP:20260424T045043
CREATED:20250226T155552Z
LAST-MODIFIED:20250226T155552Z
UID:5330-1746489600-1746575999@avant-project.eu
SUMMARY:Alternatives to antibiotics in pigs: Paving The Way To A Sustainable EU Pig Production
DESCRIPTION:The stakeholder event aims to bridge the gap between cutting-edge research and practical applications in sustainable pig farming\, focusing on the reduction of antibiotic use. This event will showcase the key findings from the AVANT and PIG-PARADIGM projects and create a collaborative platform for scientists\, veterinarians\, farmers\, policymakers\, and other key stakeholders. \n\nMorning Session: A deep dive into the science behind innovative strategies to reduce antibiotic use\, including high-fibre diets\, faecal filtrate transplantation\, and gut microbiota interventions. This session will highlight the scientific outcomes of the AVANT and PIG-PARADIGM projects and their implications for sustainable pig farming.\nAfternoon Session: A forward-looking discussion on the future of pig production in the EU. This session will focus on integrating scientific advancements into industry practices\, addressing challenges in antimicrobial reduction\, and considering consumer expectations\, economic realities\, and environmental impacts.
URL:https://avant-project.eu/event/alternatives-to-antibiotics-in-pigs-paving-the-way-to-a-sustainable-eu-pig-production/
LOCATION:University of Copenhagen\, Nørregade 10\, København\, 1172\, Denmark
ATTACH;FMTTYPE=image/png:https://avant-project.eu/wp-content/uploads/2025/02/AVANT-SM-Templates-1.png
END:VEVENT
END:VCALENDAR